BEGIN:VCALENDAR
VERSION:2.0
PRODID:-//RLWM - ECPv6.15.20//NONSGML v1.0//EN
CALSCALE:GREGORIAN
METHOD:PUBLISH
X-ORIGINAL-URL:https://hisredeeminglove.com
X-WR-CALDESC:Events for RLWM
REFRESH-INTERVAL;VALUE=DURATION:PT1H
X-Robots-Tag:noindex
X-PUBLISHED-TTL:PT1H
BEGIN:VTIMEZONE
TZID:UTC
BEGIN:STANDARD
TZOFFSETFROM:+0000
TZOFFSETTO:+0000
TZNAME:UTC
DTSTART:20250101T000000
END:STANDARD
END:VTIMEZONE
BEGIN:VEVENT
DTSTART;VALUE=DATE:20260405
DTEND;VALUE=DATE:20260406
DTSTAMP:20260420T043602
CREATED:20260124T170420Z
LAST-MODIFIED:20260323T205025Z
UID:5041-1775347200-1775433599@hisredeeminglove.com
SUMMARY:RLWM Resurrection Easter Sunday
DESCRIPTION:RLWM Resurrection Easter Sunday\nEaster Sunday \nWe’re excited about our Easter Sunday Community Celebration! Come join us on Sunday\, April 5th at 11 AM right here at Redeeming Love Word Ministries. \nFirst and foremost\, we’re coming together for a powerful Worship Experience as we celebrate our Lord and Savior Jesus Christ – He is Risen! This is a time to honor our Savior\, celebrate His resurrection\, and share the hope and love of Christ with our community. \nAfter worship\, the celebration will continue with a bounce house\, game truck\, food\, give-aways\, and more! \nAdmission is completely free\, and all ages are welcome. So\, invite your family\, friends\, and neighbors to come celebrate the risen King with us.
URL:https://hisredeeminglove.com/event/easter-sunday-2/
END:VEVENT
END:VCALENDAR