BEGIN:VCALENDAR
VERSION:2.0
PRODID:-//RLWM - ECPv6.15.20//NONSGML v1.0//EN
CALSCALE:GREGORIAN
METHOD:PUBLISH
X-WR-CALNAME:RLWM
X-ORIGINAL-URL:https://hisredeeminglove.com
X-WR-CALDESC:Events for RLWM
REFRESH-INTERVAL;VALUE=DURATION:PT1H
X-Robots-Tag:noindex
X-PUBLISHED-TTL:PT1H
BEGIN:VTIMEZONE
TZID:UTC
BEGIN:STANDARD
TZOFFSETFROM:+0000
TZOFFSETTO:+0000
TZNAME:UTC
DTSTART:20250101T000000
END:STANDARD
END:VTIMEZONE
BEGIN:VEVENT
DTSTART;VALUE=DATE:20260510
DTEND;VALUE=DATE:20260511
DTSTAMP:20260420T062324
CREATED:20260125T013309Z
LAST-MODIFIED:20260125T013309Z
UID:5045-1778371200-1778457599@hisredeeminglove.com
SUMMARY:Mother's Day
DESCRIPTION:Mother’s Day
URL:https://hisredeeminglove.com/event/mothers-day-2/
END:VEVENT
END:VCALENDAR