BEGIN:VCALENDAR
VERSION:2.0
PRODID:-//RLWM - ECPv6.15.20//NONSGML v1.0//EN
CALSCALE:GREGORIAN
METHOD:PUBLISH
X-ORIGINAL-URL:https://hisredeeminglove.com
X-WR-CALDESC:Events for RLWM
REFRESH-INTERVAL;VALUE=DURATION:PT1H
X-Robots-Tag:noindex
X-PUBLISHED-TTL:PT1H
BEGIN:VTIMEZONE
TZID:UTC
BEGIN:STANDARD
TZOFFSETFROM:+0000
TZOFFSETTO:+0000
TZNAME:UTC
DTSTART:20250101T000000
END:STANDARD
END:VTIMEZONE
BEGIN:VEVENT
DTSTART;VALUE=DATE:20261122
DTEND;VALUE=DATE:20261123
DTSTAMP:20260420T164758
CREATED:20260125T151556Z
LAST-MODIFIED:20260125T151556Z
UID:5082-1795305600-1795391999@hisredeeminglove.com
SUMMARY:SEED TIME & HARVEST
DESCRIPTION:Seed Time & Harvest
URL:https://hisredeeminglove.com/event/seed-time-harvest-2/
END:VEVENT
END:VCALENDAR