BEGIN:VCALENDAR
VERSION:2.0
PRODID:-//RLWM - ECPv6.15.20//NONSGML v1.0//EN
CALSCALE:GREGORIAN
METHOD:PUBLISH
X-WR-CALNAME:RLWM
X-ORIGINAL-URL:https://hisredeeminglove.com
X-WR-CALDESC:Events for RLWM
REFRESH-INTERVAL;VALUE=DURATION:PT1H
X-Robots-Tag:noindex
X-PUBLISHED-TTL:PT1H
BEGIN:VTIMEZONE
TZID:UTC
BEGIN:STANDARD
TZOFFSETFROM:+0000
TZOFFSETTO:+0000
TZNAME:UTC
DTSTART:20240101T000000
END:STANDARD
END:VTIMEZONE
BEGIN:VEVENT
DTSTART;VALUE=DATE:20260607
DTEND;VALUE=DATE:20260608
DTSTAMP:20260420T163847
CREATED:20260125T014013Z
LAST-MODIFIED:20260125T014043Z
UID:5049-1780790400-1780876799@hisredeeminglove.com
SUMMARY:Graduate Sunday
DESCRIPTION:Graduate Sunday
URL:https://hisredeeminglove.com/event/graduate-sunday/
LOCATION:Church Address\, 740 N. Main Street High Point\, NC\, NC\, 27262\, United States
END:VEVENT
BEGIN:VEVENT
DTSTART;VALUE=DATE:20260525
DTEND;VALUE=DATE:20260526
DTSTAMP:20260420T163847
CREATED:20260125T013406Z
LAST-MODIFIED:20260125T013619Z
UID:5047-1779667200-1779753599@hisredeeminglove.com
SUMMARY:Memorial Day
DESCRIPTION:Memorial Day
URL:https://hisredeeminglove.com/event/memorial-day-2/
END:VEVENT
BEGIN:VEVENT
DTSTART;VALUE=DATE:20260510
DTEND;VALUE=DATE:20260511
DTSTAMP:20260420T163847
CREATED:20260125T013309Z
LAST-MODIFIED:20260125T013309Z
UID:5045-1778371200-1778457599@hisredeeminglove.com
SUMMARY:Mother's Day
DESCRIPTION:Mother’s Day
URL:https://hisredeeminglove.com/event/mothers-day-2/
END:VEVENT
BEGIN:VEVENT
DTSTART;VALUE=DATE:20260419
DTEND;VALUE=DATE:20260420
DTSTAMP:20260420T163847
CREATED:20260124T170555Z
LAST-MODIFIED:20260323T205306Z
UID:5043-1776556800-1776643199@hisredeeminglove.com
SUMMARY:RLWM 18th Pastoral Anniversary
DESCRIPTION:RLWM 18th Pastoral Anniversary \nIt’s time to CELEBRATE our beloved Pastor and First Lady’s 18th Pastoral Anniversary on Sunday\, April 19th\, 2026\, at 10:00 am! \nJoin us for this special service as we come together to honor\, express gratitude\, and celebrate the leaders God has blessed us with. \nWe are also honored to welcome our guest speaker\, Bishop George W. Brooks\, Emeritus of Mount Zion Baptist Church in Greensboro\, North Carolina\, who will bring a powerful word. \nLet’s come together and fill the house to show just how grateful we are for their vision\, sacrifice\, faithful leadership\, and the many ways they have blessed this ministry!
URL:https://hisredeeminglove.com/event/18th-pastoral-anniversary/
END:VEVENT
BEGIN:VEVENT
DTSTART;VALUE=DATE:20260405
DTEND;VALUE=DATE:20260406
DTSTAMP:20260420T163847
CREATED:20260124T170420Z
LAST-MODIFIED:20260323T205025Z
UID:5041-1775347200-1775433599@hisredeeminglove.com
SUMMARY:RLWM Resurrection Easter Sunday
DESCRIPTION:RLWM Resurrection Easter Sunday\nEaster Sunday \nWe’re excited about our Easter Sunday Community Celebration! Come join us on Sunday\, April 5th at 11 AM right here at Redeeming Love Word Ministries. \nFirst and foremost\, we’re coming together for a powerful Worship Experience as we celebrate our Lord and Savior Jesus Christ – He is Risen! This is a time to honor our Savior\, celebrate His resurrection\, and share the hope and love of Christ with our community. \nAfter worship\, the celebration will continue with a bounce house\, game truck\, food\, give-aways\, and more! \nAdmission is completely free\, and all ages are welcome. So\, invite your family\, friends\, and neighbors to come celebrate the risen King with us.
URL:https://hisredeeminglove.com/event/easter-sunday-2/
END:VEVENT
BEGIN:VEVENT
DTSTART;VALUE=DATE:20260329
DTEND;VALUE=DATE:20260330
DTSTAMP:20260420T163847
CREATED:20260124T165550Z
LAST-MODIFIED:20260127T232735Z
UID:5035-1774742400-1774828799@hisredeeminglove.com
SUMMARY:Lady Bass' Birthday Celebration
DESCRIPTION:Lady Bass Birthday Celebration
URL:https://hisredeeminglove.com/event/lady-bass-birthday-celebration-2/
LOCATION:Church Address\, 740 N. Main Street High Point\, NC\, NC\, 27262\, United States
END:VEVENT
BEGIN:VEVENT
DTSTART;VALUE=DATE:20260325
DTEND;VALUE=DATE:20260326
DTSTAMP:20260420T163847
CREATED:20260124T170141Z
LAST-MODIFIED:20260124T170210Z
UID:5039-1774396800-1774483199@hisredeeminglove.com
SUMMARY:Lady Bass' Birthday
DESCRIPTION:Lady Bass’ Birthday
URL:https://hisredeeminglove.com/event/lady-bass-birthday-2/
END:VEVENT
BEGIN:VEVENT
DTSTART;VALUE=DATE:20260321
DTEND;VALUE=DATE:20260322
DTSTAMP:20260420T163847
CREATED:20260124T165920Z
LAST-MODIFIED:20260124T170025Z
UID:5037-1774051200-1774137599@hisredeeminglove.com
SUMMARY:Union Meeting
DESCRIPTION:Union Meeting
URL:https://hisredeeminglove.com/event/union-meeting-4/
END:VEVENT
BEGIN:VEVENT
DTSTART;TZID=UTC:20260314T100000
DTEND;TZID=UTC:20260314T140000
DTSTAMP:20260420T163847
CREATED:20260124T165431Z
LAST-MODIFIED:20260128T001257Z
UID:5033-1773482400-1773496800@hisredeeminglove.com
SUMMARY:High Point Women in Ministry 2026
DESCRIPTION:High Point WIM 2026 \n \nYou are cordially invited to join the High Point Chapter WIM (Women in Ministry) Annual Conference 2026. Our theme this year is “Anchored and Armored in Jesus”. This powerful gathering is designed to educate and equip women to remain strategically postured for the work of ministry. \nCLICK HERE for more information and to register.
URL:https://hisredeeminglove.com/event/high-point-wim/
LOCATION:Church Address\, 740 N. Main Street High Point\, NC\, NC\, 27262\, United States
END:VEVENT
BEGIN:VEVENT
DTSTART;VALUE=DATE:20260227
DTEND;VALUE=DATE:20260301
DTSTAMP:20260420T163847
CREATED:20260124T164056Z
LAST-MODIFIED:20260124T164056Z
UID:5023-1772150400-1772323199@hisredeeminglove.com
SUMMARY:Roanoke Trip
DESCRIPTION:Roanoke Trip
URL:https://hisredeeminglove.com/event/roanoke-trip/
END:VEVENT
BEGIN:VEVENT
DTSTART;VALUE=DATE:20260222
DTEND;VALUE=DATE:20260223
DTSTAMP:20260420T163847
CREATED:20260124T165141Z
LAST-MODIFIED:20260124T165141Z
UID:5031-1771718400-1771804799@hisredeeminglove.com
SUMMARY:Black History Month
DESCRIPTION:Black History Month: \nEvery Sunday in February
URL:https://hisredeeminglove.com/event/black-history-month-4/
END:VEVENT
BEGIN:VEVENT
DTSTART;VALUE=DATE:20260222
DTEND;VALUE=DATE:20260223
DTSTAMP:20260420T163847
CREATED:20260124T163747Z
LAST-MODIFIED:20260216T224415Z
UID:5021-1771718400-1771804799@hisredeeminglove.com
SUMMARY:Soul Food Sunday
DESCRIPTION:Click on the event flyer for more Soul Food Sunday details.
URL:https://hisredeeminglove.com/event/soul-food-sunday-2/
LOCATION:Church Address\, 740 N. Main Street High Point\, NC\, NC\, 27262\, United States
END:VEVENT
BEGIN:VEVENT
DTSTART;VALUE=DATE:20260215
DTEND;VALUE=DATE:20260216
DTSTAMP:20260420T163847
CREATED:20260124T164928Z
LAST-MODIFIED:20260124T164928Z
UID:5029-1771113600-1771199999@hisredeeminglove.com
SUMMARY:Black History Month
DESCRIPTION:Black History Month: \nEvery Sunday in February
URL:https://hisredeeminglove.com/event/black-history-month-3/
END:VEVENT
BEGIN:VEVENT
DTSTART;VALUE=DATE:20260208
DTEND;VALUE=DATE:20260209
DTSTAMP:20260420T163847
CREATED:20260124T164727Z
LAST-MODIFIED:20260124T164727Z
UID:5027-1770508800-1770595199@hisredeeminglove.com
SUMMARY:Black History Month
DESCRIPTION:Black History Month: \nEvery Sunday in February
URL:https://hisredeeminglove.com/event/black-history-month-2/
END:VEVENT
BEGIN:VEVENT
DTSTART;TZID=UTC:20260207T113000
DTEND;TZID=UTC:20260207T140000
DTSTAMP:20260420T163847
CREATED:20260124T163028Z
LAST-MODIFIED:20260128T000536Z
UID:5018-1770463800-1770472800@hisredeeminglove.com
SUMMARY:Singles Brunch 2026
DESCRIPTION:Singles Brunch 2026 \nThe Redeeming Love Word Ministries Inc. Single’s Department is very excited to announce the RLWM Singles Brunch 2026!!! We invite you and your unmarried family members and friends (age 18 and over) to come out and join us for this time of fellowship.  Parking is in the rear of the building off N. Wrenn St.\, High Point\, NC  27262 \nCLICK HERE for more information and to register.
URL:https://hisredeeminglove.com/event/singles-brunch/
LOCATION:Church Address\, 740 N. Main Street High Point\, NC\, NC\, 27262\, United States
END:VEVENT
BEGIN:VEVENT
DTSTART;VALUE=DATE:20260201
DTEND;VALUE=DATE:20260202
DTSTAMP:20260420T163847
CREATED:20260124T164448Z
LAST-MODIFIED:20260124T164448Z
UID:5025-1769904000-1769990399@hisredeeminglove.com
SUMMARY:Black History Month
DESCRIPTION:Black History Month: \nEvery Sunday in February
URL:https://hisredeeminglove.com/event/black-history-month/
LOCATION:Church Address\, 740 N. Main Street High Point\, NC\, NC\, 27262\, United States
END:VEVENT
BEGIN:VEVENT
DTSTART;VALUE=DATE:20260201
DTEND;VALUE=DATE:20260202
DTSTAMP:20260420T163847
CREATED:20260124T162436Z
LAST-MODIFIED:20260128T001531Z
UID:5016-1769904000-1769990399@hisredeeminglove.com
SUMMARY:RLWM 19th Church Anniversary & Passport to Spiritual Growth Graduation
DESCRIPTION:RLWM 19th Church Anniversary & Passport to Spiritual Growth Graduation.  This celebration has been rescheduled to Sunday\, February 1st @ 10:00am.
URL:https://hisredeeminglove.com/event/rlwm-19th-church-anniversary-passport-to-spiritual-growth-graduation/
END:VEVENT
BEGIN:VEVENT
DTSTART;VALUE=DATE:20251231
DTEND;VALUE=DATE:20260101
DTSTAMP:20260420T163847
CREATED:20250305T130841Z
LAST-MODIFIED:20250305T130841Z
UID:3741-1767139200-1767225599@hisredeeminglove.com
SUMMARY:New Year's Eve / Watch Night
DESCRIPTION:Church Address\n740 N. Main Street\nHigh Point\, NC 27262\nParking in the rear on Wren St.
URL:https://hisredeeminglove.com/event/new-years-eve-watch-night/
LOCATION:Church Address\, 740 N. Main Street High Point\, NC\, NC\, 27262\, United States
END:VEVENT
BEGIN:VEVENT
DTSTART;VALUE=DATE:20251225
DTEND;VALUE=DATE:20251226
DTSTAMP:20260420T163847
CREATED:20250305T130808Z
LAST-MODIFIED:20250305T130808Z
UID:3739-1766620800-1766707199@hisredeeminglove.com
SUMMARY:Christmas Day
DESCRIPTION:
URL:https://hisredeeminglove.com/event/christmas-day/
LOCATION:Church Address\, 740 N. Main Street High Point\, NC\, NC\, 27262\, United States
END:VEVENT
BEGIN:VEVENT
DTSTART;VALUE=DATE:20251217
DTEND;VALUE=DATE:20251218
DTSTAMP:20260420T163847
CREATED:20250305T130711Z
LAST-MODIFIED:20250305T130743Z
UID:3736-1765929600-1766015999@hisredeeminglove.com
SUMMARY:Family Night
DESCRIPTION:Church Address\n740 N. Main Street\nHigh Point\, NC 27262\nParking in the rear on Wren St.
URL:https://hisredeeminglove.com/event/family-night/
LOCATION:Church Address\, 740 N. Main Street High Point\, NC\, NC\, 27262\, United States
END:VEVENT
BEGIN:VEVENT
DTSTART;VALUE=DATE:20251127
DTEND;VALUE=DATE:20251128
DTSTAMP:20260420T163847
CREATED:20250305T130629Z
LAST-MODIFIED:20250305T130629Z
UID:3734-1764201600-1764287999@hisredeeminglove.com
SUMMARY:Thanksgiving Day
DESCRIPTION:Church Address\n740 N. Main Street\nHigh Point\, NC 27262\nParking in the rear on Wren St.
URL:https://hisredeeminglove.com/event/thanksgiving-day/
LOCATION:Church Address\, 740 N. Main Street High Point\, NC\, NC\, 27262\, United States
END:VEVENT
BEGIN:VEVENT
DTSTART;VALUE=DATE:20251125
DTEND;VALUE=DATE:20251126
DTSTAMP:20260420T163847
CREATED:20250305T130539Z
LAST-MODIFIED:20250305T130539Z
UID:3732-1764028800-1764115199@hisredeeminglove.com
SUMMARY:Thanksgiving Praise Fest
DESCRIPTION:Church Address\n740 N. Main Street\nHigh Point\, NC 27262\nParking in the rear on Wren St.
URL:https://hisredeeminglove.com/event/thanksgiving-praise-fest/
LOCATION:Church Address\, 740 N. Main Street High Point\, NC\, NC\, 27262\, United States
END:VEVENT
BEGIN:VEVENT
DTSTART;VALUE=DATE:20251109
DTEND;VALUE=DATE:20251110
DTSTAMP:20260420T163847
CREATED:20250305T130452Z
LAST-MODIFIED:20250305T130452Z
UID:3730-1762646400-1762732799@hisredeeminglove.com
SUMMARY:Veterans Day
DESCRIPTION:Church Address\n740 N. Main Street\nHigh Point\, NC 27262\nParking in the rear on Wren St.
URL:https://hisredeeminglove.com/event/veterans-day/
LOCATION:Church Address\, 740 N. Main Street High Point\, NC\, NC\, 27262\, United States
END:VEVENT
BEGIN:VEVENT
DTSTART;VALUE=DATE:20251108
DTEND;VALUE=DATE:20251109
DTSTAMP:20260420T163847
CREATED:20250305T130355Z
LAST-MODIFIED:20250305T130355Z
UID:3728-1762560000-1762646399@hisredeeminglove.com
SUMMARY:Fall Festival
DESCRIPTION:Church Address\n740 N. Main Street\nHigh Point\, NC 27262\nParking in the rear on Wren St.
URL:https://hisredeeminglove.com/event/fall-festival/
LOCATION:Church Address\, 740 N. Main Street High Point\, NC\, NC\, 27262\, United States
END:VEVENT
BEGIN:VEVENT
DTSTART;VALUE=DATE:20251026
DTEND;VALUE=DATE:20251027
DTSTAMP:20260420T163847
CREATED:20250305T130316Z
LAST-MODIFIED:20250305T130316Z
UID:3726-1761436800-1761523199@hisredeeminglove.com
SUMMARY:Seed Time & Harvest
DESCRIPTION:Church Address\n740 N. Main Street\nHigh Point\, NC 27262\nParking in the rear on Wren St.
URL:https://hisredeeminglove.com/event/seed-time-harvest/
LOCATION:Church Address\, 740 N. Main Street High Point\, NC\, NC\, 27262\, United States
END:VEVENT
BEGIN:VEVENT
DTSTART;VALUE=DATE:20251020
DTEND;VALUE=DATE:20251021
DTSTAMP:20260420T163847
CREATED:20250305T130223Z
LAST-MODIFIED:20250305T130223Z
UID:3724-1760918400-1761004799@hisredeeminglove.com
SUMMARY:Pastor Bass’ Birthday
DESCRIPTION:Church Address\n740 N. Main Street\nHigh Point\, NC 27262\nParking in the rear on Wren St.
URL:https://hisredeeminglove.com/event/pastor-bass-birthday/
LOCATION:Church Address\, 740 N. Main Street High Point\, NC\, NC\, 27262\, United States
END:VEVENT
BEGIN:VEVENT
DTSTART;VALUE=DATE:20251019
DTEND;VALUE=DATE:20251020
DTSTAMP:20260420T163847
CREATED:20250305T130135Z
LAST-MODIFIED:20250305T130155Z
UID:3722-1760832000-1760918399@hisredeeminglove.com
SUMMARY:Pastor Bass' Birthday Celeb
DESCRIPTION:Church Address\n740 N. Main Street\nHigh Point\, NC 27262\nParking in the rear on Wren St.
URL:https://hisredeeminglove.com/event/pastor-bass-birthday-celeb/
LOCATION:Church Address\, 740 N. Main Street High Point\, NC\, NC\, 27262\, United States
END:VEVENT
BEGIN:VEVENT
DTSTART;VALUE=DATE:20251011
DTEND;VALUE=DATE:20251012
DTSTAMP:20260420T163847
CREATED:20250305T130056Z
LAST-MODIFIED:20250508T154337Z
UID:3720-1760140800-1760227199@hisredeeminglove.com
SUMMARY:Union Meeting
DESCRIPTION:Church Address\n740 N. Main Street\nHigh Point\, NC 27262\nParking in the rear on Wren St.
URL:https://hisredeeminglove.com/event/union-meeting-3/
LOCATION:Church Address\, 740 N. Main Street High Point\, NC\, NC\, 27262\, United States
END:VEVENT
BEGIN:VEVENT
DTSTART;VALUE=DATE:20251005
DTEND;VALUE=DATE:20251006
DTSTAMP:20260420T163847
CREATED:20250305T125922Z
LAST-MODIFIED:20250305T125922Z
UID:3716-1759622400-1759708799@hisredeeminglove.com
SUMMARY:Pink Out Sunday
DESCRIPTION:Church Address\n740 N. Main Street\nHigh Point\, NC 27262\nParking in the rear on Wren St.
URL:https://hisredeeminglove.com/event/pink-out-sunday/
LOCATION:Church Address\, 740 N. Main Street High Point\, NC\, NC\, 27262\, United States
END:VEVENT
BEGIN:VEVENT
DTSTART;VALUE=DATE:20251004
DTEND;VALUE=DATE:20251005
DTSTAMP:20260420T163847
CREATED:20250305T130014Z
LAST-MODIFIED:20250305T130014Z
UID:3718-1759536000-1759622399@hisredeeminglove.com
SUMMARY:Pink Out 5K Run/Walk
DESCRIPTION:Church Address\n740 N. Main Street\nHigh Point\, NC 27262\nParking in the rear on Wren St.
URL:https://hisredeeminglove.com/event/pink-out-5k-run-walk/
LOCATION:Church Address\, 740 N. Main Street High Point\, NC\, NC\, 27262\, United States
END:VEVENT
END:VCALENDAR