BEGIN:VCALENDAR
VERSION:2.0
PRODID:-//RLWM - ECPv6.15.20//NONSGML v1.0//EN
CALSCALE:GREGORIAN
METHOD:PUBLISH
X-WR-CALNAME:RLWM
X-ORIGINAL-URL:https://hisredeeminglove.com
X-WR-CALDESC:Events for RLWM
REFRESH-INTERVAL;VALUE=DURATION:PT1H
X-Robots-Tag:noindex
X-PUBLISHED-TTL:PT1H
BEGIN:VTIMEZONE
TZID:UTC
BEGIN:STANDARD
TZOFFSETFROM:+0000
TZOFFSETTO:+0000
TZNAME:UTC
DTSTART:20250101T000000
END:STANDARD
END:VTIMEZONE
BEGIN:VEVENT
DTSTART;TZID=UTC:20260314T100000
DTEND;TZID=UTC:20260314T140000
DTSTAMP:20260420T064525
CREATED:20260124T165431Z
LAST-MODIFIED:20260128T001257Z
UID:5033-1773482400-1773496800@hisredeeminglove.com
SUMMARY:High Point Women in Ministry 2026
DESCRIPTION:High Point WIM 2026 \n \nYou are cordially invited to join the High Point Chapter WIM (Women in Ministry) Annual Conference 2026. Our theme this year is “Anchored and Armored in Jesus”. This powerful gathering is designed to educate and equip women to remain strategically postured for the work of ministry. \nCLICK HERE for more information and to register.
URL:https://hisredeeminglove.com/event/high-point-wim/
LOCATION:Church Address\, 740 N. Main Street High Point\, NC\, NC\, 27262\, United States
END:VEVENT
BEGIN:VEVENT
DTSTART;VALUE=DATE:20260321
DTEND;VALUE=DATE:20260322
DTSTAMP:20260420T064525
CREATED:20260124T165920Z
LAST-MODIFIED:20260124T170025Z
UID:5037-1774051200-1774137599@hisredeeminglove.com
SUMMARY:Union Meeting
DESCRIPTION:Union Meeting
URL:https://hisredeeminglove.com/event/union-meeting-4/
END:VEVENT
BEGIN:VEVENT
DTSTART;VALUE=DATE:20260325
DTEND;VALUE=DATE:20260326
DTSTAMP:20260420T064525
CREATED:20260124T170141Z
LAST-MODIFIED:20260124T170210Z
UID:5039-1774396800-1774483199@hisredeeminglove.com
SUMMARY:Lady Bass' Birthday
DESCRIPTION:Lady Bass’ Birthday
URL:https://hisredeeminglove.com/event/lady-bass-birthday-2/
END:VEVENT
BEGIN:VEVENT
DTSTART;VALUE=DATE:20260329
DTEND;VALUE=DATE:20260330
DTSTAMP:20260420T064525
CREATED:20260124T165550Z
LAST-MODIFIED:20260127T232735Z
UID:5035-1774742400-1774828799@hisredeeminglove.com
SUMMARY:Lady Bass' Birthday Celebration
DESCRIPTION:Lady Bass Birthday Celebration
URL:https://hisredeeminglove.com/event/lady-bass-birthday-celebration-2/
LOCATION:Church Address\, 740 N. Main Street High Point\, NC\, NC\, 27262\, United States
END:VEVENT
BEGIN:VEVENT
DTSTART;VALUE=DATE:20260405
DTEND;VALUE=DATE:20260406
DTSTAMP:20260420T064525
CREATED:20260124T170420Z
LAST-MODIFIED:20260323T205025Z
UID:5041-1775347200-1775433599@hisredeeminglove.com
SUMMARY:RLWM Resurrection Easter Sunday
DESCRIPTION:RLWM Resurrection Easter Sunday\nEaster Sunday \nWe’re excited about our Easter Sunday Community Celebration! Come join us on Sunday\, April 5th at 11 AM right here at Redeeming Love Word Ministries. \nFirst and foremost\, we’re coming together for a powerful Worship Experience as we celebrate our Lord and Savior Jesus Christ – He is Risen! This is a time to honor our Savior\, celebrate His resurrection\, and share the hope and love of Christ with our community. \nAfter worship\, the celebration will continue with a bounce house\, game truck\, food\, give-aways\, and more! \nAdmission is completely free\, and all ages are welcome. So\, invite your family\, friends\, and neighbors to come celebrate the risen King with us.
URL:https://hisredeeminglove.com/event/easter-sunday-2/
END:VEVENT
BEGIN:VEVENT
DTSTART;VALUE=DATE:20260419
DTEND;VALUE=DATE:20260420
DTSTAMP:20260420T064525
CREATED:20260124T170555Z
LAST-MODIFIED:20260323T205306Z
UID:5043-1776556800-1776643199@hisredeeminglove.com
SUMMARY:RLWM 18th Pastoral Anniversary
DESCRIPTION:RLWM 18th Pastoral Anniversary \nIt’s time to CELEBRATE our beloved Pastor and First Lady’s 18th Pastoral Anniversary on Sunday\, April 19th\, 2026\, at 10:00 am! \nJoin us for this special service as we come together to honor\, express gratitude\, and celebrate the leaders God has blessed us with. \nWe are also honored to welcome our guest speaker\, Bishop George W. Brooks\, Emeritus of Mount Zion Baptist Church in Greensboro\, North Carolina\, who will bring a powerful word. \nLet’s come together and fill the house to show just how grateful we are for their vision\, sacrifice\, faithful leadership\, and the many ways they have blessed this ministry!
URL:https://hisredeeminglove.com/event/18th-pastoral-anniversary/
END:VEVENT
BEGIN:VEVENT
DTSTART;VALUE=DATE:20260510
DTEND;VALUE=DATE:20260511
DTSTAMP:20260420T064525
CREATED:20260125T013309Z
LAST-MODIFIED:20260125T013309Z
UID:5045-1778371200-1778457599@hisredeeminglove.com
SUMMARY:Mother's Day
DESCRIPTION:Mother’s Day
URL:https://hisredeeminglove.com/event/mothers-day-2/
END:VEVENT
BEGIN:VEVENT
DTSTART;VALUE=DATE:20260525
DTEND;VALUE=DATE:20260526
DTSTAMP:20260420T064525
CREATED:20260125T013406Z
LAST-MODIFIED:20260125T013619Z
UID:5047-1779667200-1779753599@hisredeeminglove.com
SUMMARY:Memorial Day
DESCRIPTION:Memorial Day
URL:https://hisredeeminglove.com/event/memorial-day-2/
END:VEVENT
BEGIN:VEVENT
DTSTART;VALUE=DATE:20260607
DTEND;VALUE=DATE:20260608
DTSTAMP:20260420T064525
CREATED:20260125T014013Z
LAST-MODIFIED:20260125T014043Z
UID:5049-1780790400-1780876799@hisredeeminglove.com
SUMMARY:Graduate Sunday
DESCRIPTION:Graduate Sunday
URL:https://hisredeeminglove.com/event/graduate-sunday/
LOCATION:Church Address\, 740 N. Main Street High Point\, NC\, NC\, 27262\, United States
END:VEVENT
BEGIN:VEVENT
DTSTART;VALUE=DATE:20260621
DTEND;VALUE=DATE:20260622
DTSTAMP:20260420T064525
CREATED:20260125T014205Z
LAST-MODIFIED:20260125T014205Z
UID:5051-1782000000-1782086399@hisredeeminglove.com
SUMMARY:Father's Day
DESCRIPTION:Father’s Day
URL:https://hisredeeminglove.com/event/fathers-day-2/
END:VEVENT
BEGIN:VEVENT
DTSTART;VALUE=DATE:20260628
DTEND;VALUE=DATE:20260629
DTSTAMP:20260420T064525
CREATED:20260125T014358Z
LAST-MODIFIED:20260125T014358Z
UID:5053-1782604800-1782691199@hisredeeminglove.com
SUMMARY:RLWM Scholar's Sunday
DESCRIPTION:Scholar’s Sunday
URL:https://hisredeeminglove.com/event/rlwm-scholars-sunday-2/
END:VEVENT
BEGIN:VEVENT
DTSTART;VALUE=DATE:20260714
DTEND;VALUE=DATE:20260718
DTSTAMP:20260420T064525
CREATED:20260125T014549Z
LAST-MODIFIED:20260125T014549Z
UID:5055-1783987200-1784332799@hisredeeminglove.com
SUMMARY:Holy Convocation
DESCRIPTION:Holy Convocation July 14-17
URL:https://hisredeeminglove.com/event/holy-convocation-2/
END:VEVENT
BEGIN:VEVENT
DTSTART;VALUE=DATE:20260726
DTEND;VALUE=DATE:20260727
DTSTAMP:20260420T064525
CREATED:20260125T014711Z
LAST-MODIFIED:20260125T014727Z
UID:5057-1785024000-1785110399@hisredeeminglove.com
SUMMARY:Community Baptism
DESCRIPTION:Community Baptism
URL:https://hisredeeminglove.com/event/community-baptism/
END:VEVENT
BEGIN:VEVENT
DTSTART;VALUE=DATE:20260801
DTEND;VALUE=DATE:20260802
DTSTAMP:20260420T064525
CREATED:20260125T033929Z
LAST-MODIFIED:20260125T033929Z
UID:5059-1785542400-1785628799@hisredeeminglove.com
SUMMARY:YOUTH TRIP
DESCRIPTION:RLWM Youth Trip
URL:https://hisredeeminglove.com/event/youth-trip/
END:VEVENT
BEGIN:VEVENT
DTSTART;VALUE=DATE:20260823
DTEND;VALUE=DATE:20260824
DTSTAMP:20260420T064525
CREATED:20260125T034026Z
LAST-MODIFIED:20260125T034026Z
UID:5061-1787443200-1787529599@hisredeeminglove.com
SUMMARY:Pray For Youth
DESCRIPTION:Pray For Youth
URL:https://hisredeeminglove.com/event/pray-for-youth/
END:VEVENT
BEGIN:VEVENT
DTSTART;VALUE=DATE:20260830
DTEND;VALUE=DATE:20260831
DTSTAMP:20260420T064525
CREATED:20260125T034235Z
LAST-MODIFIED:20260125T034235Z
UID:5063-1788048000-1788134399@hisredeeminglove.com
SUMMARY:Youth Sunday
DESCRIPTION:RLWM Youth Sunday
URL:https://hisredeeminglove.com/event/youth-sunday/
END:VEVENT
BEGIN:VEVENT
DTSTART;VALUE=DATE:20260919
DTEND;VALUE=DATE:20260920
DTSTAMP:20260420T064525
CREATED:20260125T145917Z
LAST-MODIFIED:20260125T145917Z
UID:5065-1789776000-1789862399@hisredeeminglove.com
SUMMARY:LOVE LIFE PRAYER WALK
DESCRIPTION:Love Life Prayer Walk
URL:https://hisredeeminglove.com/event/love-life-prayer-walk/
END:VEVENT
BEGIN:VEVENT
DTSTART;VALUE=DATE:20260920
DTEND;VALUE=DATE:20260921
DTSTAMP:20260420T064525
CREATED:20260125T150058Z
LAST-MODIFIED:20260125T150234Z
UID:5067-1789862400-1789948799@hisredeeminglove.com
SUMMARY:National Comeback Day/ FALL FESTIVAL
DESCRIPTION:National Comeback Day \nFall Festival
URL:https://hisredeeminglove.com/event/national-comeback-day-fall-festival/
END:VEVENT
BEGIN:VEVENT
DTSTART;VALUE=DATE:20261003
DTEND;VALUE=DATE:20261004
DTSTAMP:20260420T064525
CREATED:20260125T150405Z
LAST-MODIFIED:20260125T150405Z
UID:5069-1790985600-1791071999@hisredeeminglove.com
SUMMARY:PINK OUT LUNCHEON
DESCRIPTION:Pink Out Luncheon
URL:https://hisredeeminglove.com/event/pink-out-luncheon/
END:VEVENT
BEGIN:VEVENT
DTSTART;VALUE=DATE:20261004
DTEND;VALUE=DATE:20261005
DTSTAMP:20260420T064525
CREATED:20260125T150518Z
LAST-MODIFIED:20260125T150518Z
UID:5071-1791072000-1791158399@hisredeeminglove.com
SUMMARY:PINK OUT SUNDAY
DESCRIPTION:Pink Out Sunday
URL:https://hisredeeminglove.com/event/pink-out-sunday-2/
END:VEVENT
BEGIN:VEVENT
DTSTART;VALUE=DATE:20261010
DTEND;VALUE=DATE:20261011
DTSTAMP:20260420T064525
CREATED:20260125T150707Z
LAST-MODIFIED:20260125T150707Z
UID:5073-1791590400-1791676799@hisredeeminglove.com
SUMMARY:UNION MEETING
DESCRIPTION:Union Meeting
URL:https://hisredeeminglove.com/event/union-meeting-5/
END:VEVENT
BEGIN:VEVENT
DTSTART;VALUE=DATE:20261011
DTEND;VALUE=DATE:20261012
DTSTAMP:20260420T064525
CREATED:20260125T150901Z
LAST-MODIFIED:20260125T150901Z
UID:5075-1791676800-1791763199@hisredeeminglove.com
SUMMARY:Pastor Bass' Birthday Celebration
DESCRIPTION:Pastor Bass’ Birthday Celebration
URL:https://hisredeeminglove.com/event/pastor-bass-birthday-celebration/
END:VEVENT
BEGIN:VEVENT
DTSTART;VALUE=DATE:20261020
DTEND;VALUE=DATE:20261021
DTSTAMP:20260420T064525
CREATED:20260125T151015Z
LAST-MODIFIED:20260125T151037Z
UID:5077-1792454400-1792540799@hisredeeminglove.com
SUMMARY:Pastor Bass' Birthday
DESCRIPTION:Pastor Bass’ Birthday
URL:https://hisredeeminglove.com/event/pastor-bass-birthday-2/
END:VEVENT
BEGIN:VEVENT
DTSTART;VALUE=DATE:20261108
DTEND;VALUE=DATE:20261109
DTSTAMP:20260420T064525
CREATED:20260125T151440Z
LAST-MODIFIED:20260125T151440Z
UID:5080-1794096000-1794182399@hisredeeminglove.com
SUMMARY:VETERANS DAY
DESCRIPTION:Veterans Day
URL:https://hisredeeminglove.com/event/veterans-day-2/
END:VEVENT
BEGIN:VEVENT
DTSTART;VALUE=DATE:20261122
DTEND;VALUE=DATE:20261123
DTSTAMP:20260420T064525
CREATED:20260125T151556Z
LAST-MODIFIED:20260125T151556Z
UID:5082-1795305600-1795391999@hisredeeminglove.com
SUMMARY:SEED TIME & HARVEST
DESCRIPTION:Seed Time & Harvest
URL:https://hisredeeminglove.com/event/seed-time-harvest-2/
END:VEVENT
BEGIN:VEVENT
DTSTART;VALUE=DATE:20261124
DTEND;VALUE=DATE:20261125
DTSTAMP:20260420T064525
CREATED:20260125T151759Z
LAST-MODIFIED:20260125T151759Z
UID:5084-1795478400-1795564799@hisredeeminglove.com
SUMMARY:THANKSGIVING PRAISE FEST
DESCRIPTION:Thanksgiving Praisefest
URL:https://hisredeeminglove.com/event/thanksgiving-praise-fest-2/
LOCATION:Church Address\, 740 N. Main Street High Point\, NC\, NC\, 27262\, United States
END:VEVENT
BEGIN:VEVENT
DTSTART;VALUE=DATE:20261126
DTEND;VALUE=DATE:20261127
DTSTAMP:20260420T064525
CREATED:20260125T151950Z
LAST-MODIFIED:20260125T151950Z
UID:5086-1795651200-1795737599@hisredeeminglove.com
SUMMARY:THANKSGIVING DAY
DESCRIPTION:Thanksgiving Day
URL:https://hisredeeminglove.com/event/thanksgiving-2/
LOCATION:Church Address\, 740 N. Main Street High Point\, NC\, NC\, 27262\, United States
END:VEVENT
BEGIN:VEVENT
DTSTART;VALUE=DATE:20261211
DTEND;VALUE=DATE:20261212
DTSTAMP:20260420T064525
CREATED:20260125T152121Z
LAST-MODIFIED:20260125T152121Z
UID:5088-1796947200-1797033599@hisredeeminglove.com
SUMMARY:FAMILY NIGHT
DESCRIPTION:Family Night
URL:https://hisredeeminglove.com/event/family-night-2/
END:VEVENT
BEGIN:VEVENT
DTSTART;VALUE=DATE:20261225
DTEND;VALUE=DATE:20261226
DTSTAMP:20260420T064525
CREATED:20260125T152232Z
LAST-MODIFIED:20260125T152232Z
UID:5090-1798156800-1798243199@hisredeeminglove.com
SUMMARY:CHRISTMAS DAY
DESCRIPTION:Christmas Day
URL:https://hisredeeminglove.com/event/christmas-day-2/
END:VEVENT
BEGIN:VEVENT
DTSTART;TZID=UTC:20261231T210000
DTEND;TZID=UTC:20270101T010000
DTSTAMP:20260420T064525
CREATED:20260125T152433Z
LAST-MODIFIED:20260127T231643Z
UID:5092-1798750800-1798765200@hisredeeminglove.com
SUMMARY:New Years Eve | Watch Night
DESCRIPTION:New Years Eve / Watch Night
URL:https://hisredeeminglove.com/event/new-years-eve-watch-night-2/
END:VEVENT
END:VCALENDAR