BEGIN:VCALENDAR
VERSION:2.0
PRODID:-//RLWM - ECPv6.15.20//NONSGML v1.0//EN
CALSCALE:GREGORIAN
METHOD:PUBLISH
X-WR-CALNAME:RLWM
X-ORIGINAL-URL:https://hisredeeminglove.com
X-WR-CALDESC:Events for RLWM
REFRESH-INTERVAL;VALUE=DURATION:PT1H
X-Robots-Tag:noindex
X-PUBLISHED-TTL:PT1H
BEGIN:VTIMEZONE
TZID:UTC
BEGIN:STANDARD
TZOFFSETFROM:+0000
TZOFFSETTO:+0000
TZNAME:UTC
DTSTART:20240101T000000
END:STANDARD
END:VTIMEZONE
BEGIN:VEVENT
DTSTART;VALUE=DATE:20250209
DTEND;VALUE=DATE:20250210
DTSTAMP:20260421T045735
CREATED:20250305T115332Z
LAST-MODIFIED:20250305T115857Z
UID:3675-1739059200-1739145599@hisredeeminglove.com
SUMMARY:Soul Food Sunday
DESCRIPTION:Church Address\n740 N. Main Street\nHigh Point\, NC 27262\nParking in the rear on Wren St.
URL:https://hisredeeminglove.com/event/soul-food-sunday/
LOCATION:Church Address\, 740 N. Main Street High Point\, NC\, NC\, 27262\, United States
END:VEVENT
BEGIN:VEVENT
DTSTART;VALUE=DATE:20250208
DTEND;VALUE=DATE:20250209
DTSTAMP:20260421T045735
CREATED:20250305T115138Z
LAST-MODIFIED:20250305T115852Z
UID:3665-1738972800-1739059199@hisredeeminglove.com
SUMMARY:Singles Soiree
DESCRIPTION:Church Address\n740 N. Main Street\nHigh Point\, NC 27262\nParking in the rear on Wren St.
URL:https://hisredeeminglove.com/event/singles-soiree/
LOCATION:Church Address\, 740 N. Main Street High Point\, NC\, NC\, 27262\, United States
END:VEVENT
BEGIN:VEVENT
DTSTART;VALUE=DATE:20250125
DTEND;VALUE=DATE:20250127
DTSTAMP:20260421T045735
CREATED:20250305T114950Z
LAST-MODIFIED:20250305T115849Z
UID:3663-1737763200-1737935999@hisredeeminglove.com
SUMMARY:RLWM 18th Anniversary
DESCRIPTION:Church Address\n740 N. Main Street\nHigh Point\, NC 27262\nParking in the rear on Wren St.
URL:https://hisredeeminglove.com/event/rlwm-18th-anniversary/
LOCATION:Church Address\, 740 N. Main Street High Point\, NC\, NC\, 27262\, United States
END:VEVENT
BEGIN:VEVENT
DTSTART;VALUE=DATE:20250111
DTEND;VALUE=DATE:20250112
DTSTAMP:20260421T045735
CREATED:20250305T114151Z
LAST-MODIFIED:20250305T115819Z
UID:3659-1736553600-1736639999@hisredeeminglove.com
SUMMARY:Union Meeting
DESCRIPTION:Church Address\n740 N. Main Street\nHigh Point\, NC 27262\nParking in the rear on Wren St.
URL:https://hisredeeminglove.com/event/union-meeting/
LOCATION:Church Address\, 740 N. Main Street High Point\, NC\, NC\, 27262\, United States
END:VEVENT
END:VCALENDAR