BEGIN:VCALENDAR
VERSION:2.0
PRODID:-//RLWM - ECPv6.15.20//NONSGML v1.0//EN
CALSCALE:GREGORIAN
METHOD:PUBLISH
X-ORIGINAL-URL:https://hisredeeminglove.com
X-WR-CALDESC:Events for RLWM
REFRESH-INTERVAL;VALUE=DURATION:PT1H
X-Robots-Tag:noindex
X-PUBLISHED-TTL:PT1H
BEGIN:VTIMEZONE
TZID:UTC
BEGIN:STANDARD
TZOFFSETFROM:+0000
TZOFFSETTO:+0000
TZNAME:UTC
DTSTART:20250101T000000
END:STANDARD
END:VTIMEZONE
BEGIN:VEVENT
DTSTART;TZID=UTC:20260314T100000
DTEND;TZID=UTC:20260314T140000
DTSTAMP:20260420T045432
CREATED:20260124T165431Z
LAST-MODIFIED:20260128T001257Z
UID:5033-1773482400-1773496800@hisredeeminglove.com
SUMMARY:High Point Women in Ministry 2026
DESCRIPTION:High Point WIM 2026 \n \nYou are cordially invited to join the High Point Chapter WIM (Women in Ministry) Annual Conference 2026. Our theme this year is “Anchored and Armored in Jesus”. This powerful gathering is designed to educate and equip women to remain strategically postured for the work of ministry. \nCLICK HERE for more information and to register.
URL:https://hisredeeminglove.com/event/high-point-wim/
LOCATION:Church Address\, 740 N. Main Street High Point\, NC\, NC\, 27262\, United States
END:VEVENT
BEGIN:VEVENT
DTSTART;VALUE=DATE:20260321
DTEND;VALUE=DATE:20260322
DTSTAMP:20260420T045432
CREATED:20260124T165920Z
LAST-MODIFIED:20260124T170025Z
UID:5037-1774051200-1774137599@hisredeeminglove.com
SUMMARY:Union Meeting
DESCRIPTION:Union Meeting
URL:https://hisredeeminglove.com/event/union-meeting-4/
END:VEVENT
BEGIN:VEVENT
DTSTART;VALUE=DATE:20260325
DTEND;VALUE=DATE:20260326
DTSTAMP:20260420T045432
CREATED:20260124T170141Z
LAST-MODIFIED:20260124T170210Z
UID:5039-1774396800-1774483199@hisredeeminglove.com
SUMMARY:Lady Bass' Birthday
DESCRIPTION:Lady Bass’ Birthday
URL:https://hisredeeminglove.com/event/lady-bass-birthday-2/
END:VEVENT
BEGIN:VEVENT
DTSTART;VALUE=DATE:20260329
DTEND;VALUE=DATE:20260330
DTSTAMP:20260420T045432
CREATED:20260124T165550Z
LAST-MODIFIED:20260127T232735Z
UID:5035-1774742400-1774828799@hisredeeminglove.com
SUMMARY:Lady Bass' Birthday Celebration
DESCRIPTION:Lady Bass Birthday Celebration
URL:https://hisredeeminglove.com/event/lady-bass-birthday-celebration-2/
LOCATION:Church Address\, 740 N. Main Street High Point\, NC\, NC\, 27262\, United States
END:VEVENT
END:VCALENDAR